BEGIN:VCALENDAR
VERSION:2.0
PRODID:-//Airspan - ECPv6.15.11//NONSGML v1.0//EN
CALSCALE:GREGORIAN
METHOD:PUBLISH
X-WR-CALNAME:Airspan
X-ORIGINAL-URL:https://airspan.com
X-WR-CALDESC:Events for Airspan
REFRESH-INTERVAL;VALUE=DURATION:PT1H
X-Robots-Tag:noindex
X-PUBLISHED-TTL:PT1H
BEGIN:VTIMEZONE
TZID:Europe/Madrid
BEGIN:DAYLIGHT
TZOFFSETFROM:+0100
TZOFFSETTO:+0200
TZNAME:CEST
DTSTART:20230326T010000
END:DAYLIGHT
BEGIN:STANDARD
TZOFFSETFROM:+0200
TZOFFSETTO:+0100
TZNAME:CET
DTSTART:20231029T010000
END:STANDARD
BEGIN:DAYLIGHT
TZOFFSETFROM:+0100
TZOFFSETTO:+0200
TZNAME:CEST
DTSTART:20240331T010000
END:DAYLIGHT
BEGIN:STANDARD
TZOFFSETFROM:+0200
TZOFFSETTO:+0100
TZNAME:CET
DTSTART:20241027T010000
END:STANDARD
BEGIN:DAYLIGHT
TZOFFSETFROM:+0100
TZOFFSETTO:+0200
TZNAME:CEST
DTSTART:20250330T010000
END:DAYLIGHT
BEGIN:STANDARD
TZOFFSETFROM:+0200
TZOFFSETTO:+0100
TZNAME:CET
DTSTART:20251026T010000
END:STANDARD
END:VTIMEZONE
BEGIN:VEVENT
DTSTART;VALUE=DATE:20240529
DTEND;VALUE=DATE:20240601
DTSTAMP:20260417T232140
CREATED:20240725T075026Z
LAST-MODIFIED:20240725T075026Z
UID:18069-1716940800-1717199999@airspan.com
SUMMARY:Wireless Japan
DESCRIPTION:
URL:https://airspan.com/events/wireless-japan/
LOCATION:Tokyo\, Japan
CATEGORIES:Events
ATTACH;FMTTYPE=image/png:https://airspan.com/wp-content/uploads/2024/07/event-06.png
END:VEVENT
END:VCALENDAR