BEGIN:VCALENDAR
VERSION:2.0
PRODID:-//Airspan - ECPv6.15.11//NONSGML v1.0//EN
CALSCALE:GREGORIAN
METHOD:PUBLISH
X-WR-CALNAME:Airspan
X-ORIGINAL-URL:https://airspan.com
X-WR-CALDESC:Events for Airspan
REFRESH-INTERVAL;VALUE=DURATION:PT1H
X-Robots-Tag:noindex
X-PUBLISHED-TTL:PT1H
BEGIN:VTIMEZONE
TZID:Europe/Madrid
BEGIN:DAYLIGHT
TZOFFSETFROM:+0100
TZOFFSETTO:+0200
TZNAME:CEST
DTSTART:20230326T010000
END:DAYLIGHT
BEGIN:STANDARD
TZOFFSETFROM:+0200
TZOFFSETTO:+0100
TZNAME:CET
DTSTART:20231029T010000
END:STANDARD
BEGIN:DAYLIGHT
TZOFFSETFROM:+0100
TZOFFSETTO:+0200
TZNAME:CEST
DTSTART:20240331T010000
END:DAYLIGHT
BEGIN:STANDARD
TZOFFSETFROM:+0200
TZOFFSETTO:+0100
TZNAME:CET
DTSTART:20241027T010000
END:STANDARD
BEGIN:DAYLIGHT
TZOFFSETFROM:+0100
TZOFFSETTO:+0200
TZNAME:CEST
DTSTART:20250330T010000
END:DAYLIGHT
BEGIN:STANDARD
TZOFFSETFROM:+0200
TZOFFSETTO:+0100
TZNAME:CET
DTSTART:20251026T010000
END:STANDARD
END:VTIMEZONE
BEGIN:VEVENT
DTSTART;VALUE=DATE:20240911
DTEND;VALUE=DATE:20240913
DTSTAMP:20260417T011415
CREATED:20240912T213705Z
LAST-MODIFIED:20240912T213724Z
UID:18605-1726012800-1726185599@airspan.com
SUMMARY:Connected Britain
DESCRIPTION:Connected Britain 2024 is the UK’s premier digital economy event\, exploring the future of digital infrastructure and emerging technologies. It brings together leaders from across the connectivity ecosystem to discuss how innovation can unlock socioeconomic benefits for businesses\, communities\, and individuals nationwide.
URL:https://airspan.com/events/connected-britain/
LOCATION:ExCeL London\, Royal Victoria Dock\, 1 Western Gateway\, London\, E16 1XL\, United Kingdom
CATEGORIES:Events
ATTACH;FMTTYPE=image/webp:https://airspan.com/wp-content/uploads/2024/09/connected-britain-2024.webp
END:VEVENT
END:VCALENDAR