BEGIN:VCALENDAR
VERSION:2.0
PRODID:-//Airspan - ECPv6.15.11//NONSGML v1.0//EN
CALSCALE:GREGORIAN
METHOD:PUBLISH
X-WR-CALNAME:Airspan
X-ORIGINAL-URL:https://airspan.com
X-WR-CALDESC:Events for Airspan
REFRESH-INTERVAL;VALUE=DURATION:PT1H
X-Robots-Tag:noindex
X-PUBLISHED-TTL:PT1H
BEGIN:VTIMEZONE
TZID:Europe/Madrid
BEGIN:DAYLIGHT
TZOFFSETFROM:+0100
TZOFFSETTO:+0200
TZNAME:CEST
DTSTART:20230326T010000
END:DAYLIGHT
BEGIN:STANDARD
TZOFFSETFROM:+0200
TZOFFSETTO:+0100
TZNAME:CET
DTSTART:20231029T010000
END:STANDARD
BEGIN:DAYLIGHT
TZOFFSETFROM:+0100
TZOFFSETTO:+0200
TZNAME:CEST
DTSTART:20240331T010000
END:DAYLIGHT
BEGIN:STANDARD
TZOFFSETFROM:+0200
TZOFFSETTO:+0100
TZNAME:CET
DTSTART:20241027T010000
END:STANDARD
BEGIN:DAYLIGHT
TZOFFSETFROM:+0100
TZOFFSETTO:+0200
TZNAME:CEST
DTSTART:20250330T010000
END:DAYLIGHT
BEGIN:STANDARD
TZOFFSETFROM:+0200
TZOFFSETTO:+0100
TZNAME:CET
DTSTART:20251026T010000
END:STANDARD
END:VTIMEZONE
BEGIN:VEVENT
DTSTART;VALUE=DATE:20240923
DTEND;VALUE=DATE:20240926
DTSTAMP:20260415T134543
CREATED:20240913T072533Z
LAST-MODIFIED:20240913T072533Z
UID:18620-1727049600-1727308799@airspan.com
SUMMARY:NTTA Tribal Broadband Summit
DESCRIPTION:The NTTA Tribal Broadband Summit will bring together Tribal attendees\, grant applicants\, industry experts\, and federal representatives to discuss and advance tribal broadband infrastructure. The summit will cover critical topics including federal broadband funding\, networking building\, operational frameworks\, equipment needs\, and strategies for promoting digital equity and inclusion within Tribal communities.
URL:https://airspan.com/events/ntta-tribal-broadband-summit/
LOCATION:Gila River Resorts & Casinos\, 5040 Wild Horse Pass Blvd\, Chandler\, AZ\, 85226\, United States
CATEGORIES:Events
ATTACH;FMTTYPE=image/jpeg:https://airspan.com/wp-content/uploads/2024/09/NTTA-Tribal-Broadband-Summit-.jpg
END:VEVENT
END:VCALENDAR